BEGIN:VCALENDAR
VERSION:2.0
PRODID:-//ASCF - ECPv6.15.20//NONSGML v1.0//EN
CALSCALE:GREGORIAN
METHOD:PUBLISH
X-WR-CALNAME:ASCF
X-ORIGINAL-URL:https://ascfamily.org
X-WR-CALDESC:Events for ASCF
REFRESH-INTERVAL;VALUE=DURATION:PT1H
X-Robots-Tag:noindex
X-PUBLISHED-TTL:PT1H
BEGIN:VTIMEZONE
TZID:America/New_York
BEGIN:DAYLIGHT
TZOFFSETFROM:-0500
TZOFFSETTO:-0400
TZNAME:EDT
DTSTART:20240310T070000
END:DAYLIGHT
BEGIN:STANDARD
TZOFFSETFROM:-0400
TZOFFSETTO:-0500
TZNAME:EST
DTSTART:20241103T060000
END:STANDARD
BEGIN:DAYLIGHT
TZOFFSETFROM:-0500
TZOFFSETTO:-0400
TZNAME:EDT
DTSTART:20250309T070000
END:DAYLIGHT
BEGIN:STANDARD
TZOFFSETFROM:-0400
TZOFFSETTO:-0500
TZNAME:EST
DTSTART:20251102T060000
END:STANDARD
BEGIN:DAYLIGHT
TZOFFSETFROM:-0500
TZOFFSETTO:-0400
TZNAME:EDT
DTSTART:20260308T070000
END:DAYLIGHT
BEGIN:STANDARD
TZOFFSETFROM:-0400
TZOFFSETTO:-0500
TZNAME:EST
DTSTART:20261101T060000
END:STANDARD
END:VTIMEZONE
BEGIN:VEVENT
DTSTART;TZID=America/New_York:20251203T193000
DTEND;TZID=America/New_York:20251203T203000
DTSTAMP:20260423T175159
CREATED:20251112T191446Z
LAST-MODIFIED:20251112T191446Z
UID:3186-1764790200-1764793800@ascfamily.org
SUMMARY:Tiered Supports - I&RS
DESCRIPTION:New Jersey Tiered Supports – I&RS \nIntervention and Referral Services
URL:https://ascfamily.org/event/tiered-supports-irs/
CATEGORIES:Workshops
END:VEVENT
BEGIN:VEVENT
DTSTART;TZID=America/New_York:20251206T140000
DTEND;TZID=America/New_York:20251206T163000
DTSTAMP:20260423T175159
CREATED:20251112T184741Z
LAST-MODIFIED:20251112T184741Z
UID:3181-1765029600-1765038600@ascfamily.org
SUMMARY:HOLIDAY PARTY!!
DESCRIPTION:
URL:https://ascfamily.org/event/holiday-party/
LOCATION:Almond Branch Church\, 184 Marshal Hill Road\, West Milford\, 07480\, United States
CATEGORIES:Activities
END:VEVENT
BEGIN:VEVENT
DTSTART;TZID=America/New_York:20251217T193000
DTEND;TZID=America/New_York:20251217T203000
DTSTAMP:20260423T175159
CREATED:20251112T193110Z
LAST-MODIFIED:20251113T165912Z
UID:3191-1765999800-1766003400@ascfamily.org
SUMMARY:Post Secondary Transition to Adulthood
DESCRIPTION:Person Center Approach – \nPost Secondary Transition to Adulthood
URL:https://ascfamily.org/event/post-secondary-transition-to-adulthood/
CATEGORIES:Workshops
END:VEVENT
END:VCALENDAR