BEGIN:VCALENDAR
VERSION:2.0
PRODID:-//ASCF - ECPv6.15.20//NONSGML v1.0//EN
CALSCALE:GREGORIAN
METHOD:PUBLISH
X-ORIGINAL-URL:https://ascfamily.org
X-WR-CALDESC:Events for ASCF
REFRESH-INTERVAL;VALUE=DURATION:PT1H
X-Robots-Tag:noindex
X-PUBLISHED-TTL:PT1H
BEGIN:VTIMEZONE
TZID:America/New_York
BEGIN:DAYLIGHT
TZOFFSETFROM:-0500
TZOFFSETTO:-0400
TZNAME:EDT
DTSTART:20240310T070000
END:DAYLIGHT
BEGIN:STANDARD
TZOFFSETFROM:-0400
TZOFFSETTO:-0500
TZNAME:EST
DTSTART:20241103T060000
END:STANDARD
BEGIN:DAYLIGHT
TZOFFSETFROM:-0500
TZOFFSETTO:-0400
TZNAME:EDT
DTSTART:20250309T070000
END:DAYLIGHT
BEGIN:STANDARD
TZOFFSETFROM:-0400
TZOFFSETTO:-0500
TZNAME:EST
DTSTART:20251102T060000
END:STANDARD
BEGIN:DAYLIGHT
TZOFFSETFROM:-0500
TZOFFSETTO:-0400
TZNAME:EDT
DTSTART:20260308T070000
END:DAYLIGHT
BEGIN:STANDARD
TZOFFSETFROM:-0400
TZOFFSETTO:-0500
TZNAME:EST
DTSTART:20261101T060000
END:STANDARD
END:VTIMEZONE
BEGIN:VEVENT
DTSTART;TZID=America/New_York:20251015T163000
DTEND;TZID=America/New_York:20251015T173000
DTSTAMP:20260423T230559
CREATED:20251006T182122Z
LAST-MODIFIED:20251013T165927Z
UID:2846-1760545800-1760549400@ascfamily.org
SUMMARY:Social Skills Group
DESCRIPTION:This is a curriculum based program for all levels and is funded by a grant to support children with disabilities.  We will meet on Wednesdays. \nThere are 3 levels: Elementary\, Middle School and a virtual gaming group for High Schoolers. \nWhile the elementary and middle school students are in their groups\, parents will have a group session of their own. \n 
URL:https://ascfamily.org/event/social-skills-group-2/
LOCATION:Highlands Family Success Center\,\, 1801 Greenwood Lake Turnpike\, Hewitt\, NJ\, 07421\, United States
CATEGORIES:Activities
ORGANIZER;CN="Julie Rikon":MAILTO:info@ascfamily.org
END:VEVENT
BEGIN:VEVENT
DTSTART;TZID=America/New_York:20251022T163000
DTEND;TZID=America/New_York:20251022T173000
DTSTAMP:20260423T230559
CREATED:20251013T170113Z
LAST-MODIFIED:20251013T170113Z
UID:3034-1761150600-1761154200@ascfamily.org
SUMMARY:Social Skills Group
DESCRIPTION:This is a curriculum based program for all levels and is funded by a grant to support children with disabilities.  We will meet on Wednesdays. \nThere are 3 levels: Elementary\, Middle School and a virtual gaming group for High Schoolers. \nWhile the elementary and middle school students are in their groups\, parents will have a group session of their own. \n 
URL:https://ascfamily.org/event/social-skills-group-2-2/
LOCATION:Highlands Family Success Center\,\, 1801 Greenwood Lake Turnpike\, Hewitt\, NJ\, 07421\, United States
CATEGORIES:Activities
ORGANIZER;CN="Julie Rikon":MAILTO:info@ascfamily.org
END:VEVENT
BEGIN:VEVENT
DTSTART;TZID=America/New_York:20251023T193000
DTEND;TZID=America/New_York:20251023T203000
DTSTAMP:20260423T230559
CREATED:20251013T171305Z
LAST-MODIFIED:20251013T171305Z
UID:3043-1761247800-1761251400@ascfamily.org
SUMMARY:EXECUTIVE FUNCTIONING:  UNLOCKING YOUR CHILD'S POTENTIAL
DESCRIPTION:Join our engaging virtual training to understand better executive functioning skills—the brain-based abilities that help children plan\, focus\, remember instructions\, and manage tasks. Whether your child struggles with organization\, time management\, or emotional regulation\, this training will offer practical tools and strategies to support their success at home and in school. \nThis presentation is designed for families\, caregivers\, and educators\, and will empower you to help children build independence\, confidence\, and stronger daily functioning.
URL:https://ascfamily.org/event/executive-functioning-unlocking-your-childs-potential/
ORGANIZER;CN="Tammi Kaminski":MAILTO:tammi@ascfamily.org
END:VEVENT
BEGIN:VEVENT
DTSTART;TZID=America/New_York:20251029T163000
DTEND;TZID=America/New_York:20251029T173000
DTSTAMP:20260423T230559
CREATED:20251013T170239Z
LAST-MODIFIED:20251013T170239Z
UID:3036-1761755400-1761759000@ascfamily.org
SUMMARY:Social Skills Group
DESCRIPTION:This is a curriculum based program for all levels and is funded by a grant to support children with disabilities.  We will meet on Wednesdays. \nThere are 3 levels: Elementary\, Middle School and a virtual gaming group for High Schoolers. \nWhile the elementary and middle school students are in their groups\, parents will have a group session of their own. \n 
URL:https://ascfamily.org/event/social-skills-group-2-2-2/
LOCATION:Highlands Family Success Center\,\, 1801 Greenwood Lake Turnpike\, Hewitt\, NJ\, 07421\, United States
CATEGORIES:Activities
ORGANIZER;CN="Julie Rikon":MAILTO:info@ascfamily.org
END:VEVENT
END:VCALENDAR