BEGIN:VCALENDAR
VERSION:2.0
PRODID:-//ASCF - ECPv6.15.20//NONSGML v1.0//EN
CALSCALE:GREGORIAN
METHOD:PUBLISH
X-WR-CALNAME:ASCF
X-ORIGINAL-URL:https://ascfamily.org
X-WR-CALDESC:Events for ASCF
REFRESH-INTERVAL;VALUE=DURATION:PT1H
X-Robots-Tag:noindex
X-PUBLISHED-TTL:PT1H
BEGIN:VTIMEZONE
TZID:America/New_York
BEGIN:DAYLIGHT
TZOFFSETFROM:-0500
TZOFFSETTO:-0400
TZNAME:EDT
DTSTART:20190310T070000
END:DAYLIGHT
BEGIN:STANDARD
TZOFFSETFROM:-0400
TZOFFSETTO:-0500
TZNAME:EST
DTSTART:20191103T060000
END:STANDARD
BEGIN:DAYLIGHT
TZOFFSETFROM:-0500
TZOFFSETTO:-0400
TZNAME:EDT
DTSTART:20200308T070000
END:DAYLIGHT
BEGIN:STANDARD
TZOFFSETFROM:-0400
TZOFFSETTO:-0500
TZNAME:EST
DTSTART:20201101T060000
END:STANDARD
BEGIN:DAYLIGHT
TZOFFSETFROM:-0500
TZOFFSETTO:-0400
TZNAME:EDT
DTSTART:20210314T070000
END:DAYLIGHT
BEGIN:STANDARD
TZOFFSETFROM:-0400
TZOFFSETTO:-0500
TZNAME:EST
DTSTART:20211107T060000
END:STANDARD
END:VTIMEZONE
BEGIN:VEVENT
DTSTART;TZID=America/New_York:20200405T080000
DTEND;TZID=America/New_York:20200405T170000
DTSTAMP:20260423T193914
CREATED:20200406T010512Z
LAST-MODIFIED:20200406T010512Z
UID:778-1586073600-1586106000@ascfamily.org
SUMMARY:YOU ARE NOT ALONE
DESCRIPTION:Hope you are all hanging in. We at ASCF are here trying to figure out how to help parents who are trying to teach their kids at home and juggling lots of other new challenges. We have some tips for you on how to talk to your kids and help calm their fears. It’s short and sweet. They are from Psychology Today\, March 12\, 2020 Rebecca Schrag Hershberg Ph.D \nAs you know ASCF’s face to face services have been suspended until further notice. Remember we are still here for you by phone. We are planning some online activities. Info will be sent to you as soon as possible\, We will also be sending out mailers like this one with information we hope will provide you support and guidance. Take care and remember no one has all the answers and we are all doing what we can to help ourselves\, our families and our neighbors. \nASCF staff \nAngela\, Julie\, Rachel\, Lilly and Catherine
URL:https://ascfamily.org/event/you-are-not-alone/
END:VEVENT
BEGIN:VEVENT
DTSTART;TZID=America/New_York:20200307T100000
DTEND;TZID=America/New_York:20200307T120000
DTSTAMP:20260423T193914
CREATED:20200307T224624Z
LAST-MODIFIED:20200307T224735Z
UID:766-1583575200-1583582400@ascfamily.org
SUMMARY:Homework helper tutoring
DESCRIPTION:
URL:https://ascfamily.org/event/homework-helper-tutoring/
END:VEVENT
END:VCALENDAR