BEGIN:VCALENDAR
VERSION:2.0
PRODID:-//ASCF - ECPv6.15.20//NONSGML v1.0//EN
CALSCALE:GREGORIAN
METHOD:PUBLISH
X-ORIGINAL-URL:https://ascfamily.org
X-WR-CALDESC:Events for ASCF
REFRESH-INTERVAL;VALUE=DURATION:PT1H
X-Robots-Tag:noindex
X-PUBLISHED-TTL:PT1H
BEGIN:VTIMEZONE
TZID:America/New_York
BEGIN:DAYLIGHT
TZOFFSETFROM:-0500
TZOFFSETTO:-0400
TZNAME:EDT
DTSTART:20250309T070000
END:DAYLIGHT
BEGIN:STANDARD
TZOFFSETFROM:-0400
TZOFFSETTO:-0500
TZNAME:EST
DTSTART:20251102T060000
END:STANDARD
BEGIN:DAYLIGHT
TZOFFSETFROM:-0500
TZOFFSETTO:-0400
TZNAME:EDT
DTSTART:20260308T070000
END:DAYLIGHT
BEGIN:STANDARD
TZOFFSETFROM:-0400
TZOFFSETTO:-0500
TZNAME:EST
DTSTART:20261101T060000
END:STANDARD
BEGIN:DAYLIGHT
TZOFFSETFROM:-0500
TZOFFSETTO:-0400
TZNAME:EDT
DTSTART:20270314T070000
END:DAYLIGHT
BEGIN:STANDARD
TZOFFSETFROM:-0400
TZOFFSETTO:-0500
TZNAME:EST
DTSTART:20271107T060000
END:STANDARD
END:VTIMEZONE
BEGIN:VEVENT
DTSTART;TZID=America/New_York:20260523T110000
DTEND;TZID=America/New_York:20260523T120000
DTSTAMP:20260423T160726
CREATED:20260410T152607Z
LAST-MODIFIED:20260410T152607Z
UID:5108-1779534000-1779537600@ascfamily.org
SUMMARY:Gaming Club
DESCRIPTION:
URL:https://ascfamily.org/event/gaming-club-5/
CATEGORIES:Activities
END:VEVENT
BEGIN:VEVENT
DTSTART;TZID=America/New_York:20260608T200000
DTEND;TZID=America/New_York:20260608T210000
DTSTAMP:20260423T160726
CREATED:20260410T154112Z
LAST-MODIFIED:20260410T154112Z
UID:5123-1780948800-1780952400@ascfamily.org
SUMMARY:Dad Chat
DESCRIPTION:
URL:https://ascfamily.org/event/dad-chat-3/
ORGANIZER;CN="Dennis McCartney":MAILTO:Dennis@ascfamily.org
END:VEVENT
END:VCALENDAR