BEGIN:VCALENDAR
VERSION:2.0
PRODID:-//ASCF - ECPv6.15.20//NONSGML v1.0//EN
CALSCALE:GREGORIAN
METHOD:PUBLISH
X-ORIGINAL-URL:https://ascfamily.org
X-WR-CALDESC:Events for ASCF
REFRESH-INTERVAL;VALUE=DURATION:PT1H
X-Robots-Tag:noindex
X-PUBLISHED-TTL:PT1H
BEGIN:VTIMEZONE
TZID:America/New_York
BEGIN:DAYLIGHT
TZOFFSETFROM:-0500
TZOFFSETTO:-0400
TZNAME:EDT
DTSTART:20240310T070000
END:DAYLIGHT
BEGIN:STANDARD
TZOFFSETFROM:-0400
TZOFFSETTO:-0500
TZNAME:EST
DTSTART:20241103T060000
END:STANDARD
BEGIN:DAYLIGHT
TZOFFSETFROM:-0500
TZOFFSETTO:-0400
TZNAME:EDT
DTSTART:20250309T070000
END:DAYLIGHT
BEGIN:STANDARD
TZOFFSETFROM:-0400
TZOFFSETTO:-0500
TZNAME:EST
DTSTART:20251102T060000
END:STANDARD
BEGIN:DAYLIGHT
TZOFFSETFROM:-0500
TZOFFSETTO:-0400
TZNAME:EDT
DTSTART:20260308T070000
END:DAYLIGHT
BEGIN:STANDARD
TZOFFSETFROM:-0400
TZOFFSETTO:-0500
TZNAME:EST
DTSTART:20261101T060000
END:STANDARD
END:VTIMEZONE
BEGIN:VEVENT
DTSTART;TZID=America/New_York:20251119T080000
DTEND;TZID=America/New_York:20251119T170000
DTSTAMP:20260423T214241
CREATED:20251013T172235Z
LAST-MODIFIED:20251013T172235Z
UID:3049-1763539200-1763571600@ascfamily.org
SUMMARY:POSITIVE CHILD PROFILE
DESCRIPTION:POSITIVE CHILD PROFILE\nPBS- is a framework used to promote positive behaviors in children\, especially those with special needs or those who exhibit challenging behaviors. It focuses on understanding the reasons behind a child’s behavior and teaching new\, more appropriate behaviors to replace the challenging ones.\n\n 
URL:https://ascfamily.org/event/positive-child-profile/
ORGANIZER;CN="Tammi Kaminski":MAILTO:tammi@ascfamily.org
END:VEVENT
END:VCALENDAR